BEGIN:VCALENDAR
VERSION:2.0
PRODID:-//wp-events-plugin.com//7.2.3.1//EN
TZID:Europe/Berlin
X-WR-TIMEZONE:Europe/Berlin
BEGIN:VEVENT
UID:91@busc.de
DTSTART;TZID=Europe/Berlin:20181110T160000
DTEND;TZID=Europe/Berlin:20181110T160000
DTSTAMP:20181107T200924Z
URL:https://busc.de/events/the-european-balcony-project-kunstaktion/
SUMMARY:The European Balcony Project - Kunstaktion
DESCRIPTION: \nTogether for a European Republic!\nDas erste Mal in der Ges
 chichte Europas versammeln sich Bürgerinnen und Bürger auf dem ganzen Ko
 ntinent\, um die Debatte um europäische Bürgerschaft und Demokratie neu 
 zu Führen.\nDiskutieren Sie mit! Europas Zukunft liegt in unseren Händen
 : http://europeanbalconyproject.eu
ATTACH;FMTTYPE=image/jpeg:https://busc.de/wp-content/uploads/2018/11/IMG-2
 0181106-WA0000.jpg
LOCATION:#_LOCATIONNAME\, #_LOCATIONFULLLINE\, #_LOCATIONCOUNTRY
GEO:50.73449069999999;7.099631400000021
X-APPLE-STRUCTURED-LOCATION;VALUE=URI;X-ADDRESS=#_LOCATIONFULLLINE\, #_LOCA
 TIONCOUNTRY;X-APPLE-RADIUS=100;X-TITLE=#_LOCATIONNAME:geo:50.7344906999999
 9,7.099631400000021
END:VEVENT
BEGIN:VTIMEZONE
TZID:Europe/Berlin
X-LIC-LOCATION:Europe/Berlin
BEGIN:STANDARD
DTSTART:20181028T020000
TZOFFSETFROM:+0200
TZOFFSETTO:+0100
TZNAME:CET
END:STANDARD
END:VTIMEZONE
END:VCALENDAR