BEGIN:VCALENDAR
VERSION:2.0
PRODID:-//wp-events-plugin.com//7.2.3.1//EN
TZID:Europe/Berlin
X-WR-TIMEZONE:Europe/Berlin
BEGIN:VEVENT
UID:243@busc.de
DTSTART;TZID=Europe/Berlin:20220709T200000
DTEND;TZID=Europe/Berlin:20220709T220000
DTSTAMP:20220611T111047Z
URL:https://busc.de/events/rosencrantz-and-guildenstern-9/
SUMMARY:Rosencrantz and Guildenstern - A Ghost Story
DESCRIPTION:In this summer's production\, the BUSC travels to the underworl
 d. Things first seem ordinary\, until a coin game alerts the characters to
  the troubling situation their souls are really in. They embark on a journ
 ey to finish all their unfinished business\, pondering their last days on 
 earth and trying to figure out how they might regain freedom. In their que
 st\, the will need to unravel the mysterious plot of an unsuccessful autho
 r with evil intentions.\nA modern adaption using excerpts from Shakespeare
 's "Hamlet\," and W.S. Gilbert's 1874 play "Rosencrantz and Guildenstern"\
 , the play presents new and unique insights into the the beloved character
 s.
ATTACH;FMTTYPE=image/jpeg:https://busc.de/wp-content/uploads/2022/06/digit
 al-poster.jpg
LOCATION:#_LOCATIONNAME\, #_LOCATIONFULLLINE\, #_LOCATIONCOUNTRY
GEO:50.740923789593396;7.12353601791358
X-APPLE-STRUCTURED-LOCATION;VALUE=URI;X-ADDRESS=#_LOCATIONFULLLINE\, #_LOCA
 TIONCOUNTRY;X-APPLE-RADIUS=100;X-TITLE=#_LOCATIONNAME:geo:50.7409237895933
 96,7.12353601791358
END:VEVENT
BEGIN:VTIMEZONE
TZID:Europe/Berlin
X-LIC-LOCATION:Europe/Berlin
BEGIN:DAYLIGHT
DTSTART:20220327T030000
TZOFFSETFROM:+0100
TZOFFSETTO:+0200
TZNAME:CEST
END:DAYLIGHT
END:VTIMEZONE
END:VCALENDAR