BEGIN:VCALENDAR
VERSION:2.0
PRODID:-//wp-events-plugin.com//7.2.3.1//EN
TZID:Europe/Berlin
X-WR-TIMEZONE:Europe/Berlin
BEGIN:VEVENT
UID:174@busc.de
DTSTART;TZID=Europe/Berlin:20200122T200000
DTEND;TZID=Europe/Berlin:20200122T220000
DTSTAMP:20200111T102031Z
URL:https://busc.de/events/jahresvollversammlung-2/
SUMMARY:Jahresvollversammlung
DESCRIPTION:Willkommen zur Jahresvollversammlung des Vereins! Hier wird üb
 er die Entwicklungen des letzten Jahres berichtet\, unsere Sommerproduktio
 n gewählt und besprochen\, was im Jahr 2020 für die BUSC ansteht!\nFalls
  ihr Interesse habt\, bei der BUSC mitzumachen\, ist das der richtige Mome
 nt\, um uns kennenzulernen und zu erfahren\, was es in der nächsten Zeit 
 zu tun gibt!
CATEGORIES:Vollversammlung
LOCATION:#_LOCATIONNAME\, #_LOCATIONFULLLINE\, #_LOCATIONCOUNTRY
GEO:50.7344715;7.105238299999996
X-APPLE-STRUCTURED-LOCATION;VALUE=URI;X-ADDRESS=#_LOCATIONFULLLINE\, #_LOCA
 TIONCOUNTRY;X-APPLE-RADIUS=100;X-TITLE=#_LOCATIONNAME:geo:50.7344715,7.105
 238299999996
END:VEVENT
BEGIN:VTIMEZONE
TZID:Europe/Berlin
X-LIC-LOCATION:Europe/Berlin
BEGIN:STANDARD
DTSTART:20191027T020000
TZOFFSETFROM:+0200
TZOFFSETTO:+0100
TZNAME:CET
END:STANDARD
END:VTIMEZONE
END:VCALENDAR