BEGIN:VCALENDAR
VERSION:2.0
PRODID:-//wp-events-plugin.com//7.2.3.1//EN
TZID:Europe/Berlin
X-WR-TIMEZONE:Europe/Berlin
BEGIN:VEVENT
UID:114@busc.de
DTSTART;TZID=Europe/Berlin:20190225T190000
DTEND;TZID=Europe/Berlin:20190225T220000
DTSTAMP:20190210T144639Z
URL:https://busc.de/events/castings-salome-5/
SUMMARY:Castings Salome
DESCRIPTION:Dear future stage talents\, \n it's that time of the year again
 : the Bonn University Shakespeare Company is looking for actors for the up
 coming summer production "Salome" by Oscar Wilde!\n If you have a passion 
 for English language theatre and love acting\, this is your chance to join
  us on stage! \n The auditions are very informal and first and foremost su
 pposed to be fun - just come in\, grab yourself some other people\, choose
  a scene and present it to the director. \n Did we raise your curiosity an
 d stage hunger? \n \n Auditions are: \n 20th-21st &amp\; 25th-27th Februar
 y: 7pm-10pm\n 23rd-24th February: 11am - 8pm\n \n There will not be auditi
 ons on the 22nd! \n Please find more information and audition scenes under
  CASTINGS\n\n We can't wait to see you there!
LOCATION:#_LOCATIONNAME\, #_LOCATIONFULLLINE\, #_LOCATIONCOUNTRY
GEO:50.7344715;7.105238299999996
X-APPLE-STRUCTURED-LOCATION;VALUE=URI;X-ADDRESS=#_LOCATIONFULLLINE\, #_LOCA
 TIONCOUNTRY;X-APPLE-RADIUS=100;X-TITLE=#_LOCATIONNAME:geo:50.7344715,7.105
 238299999996
END:VEVENT
BEGIN:VTIMEZONE
TZID:Europe/Berlin
X-LIC-LOCATION:Europe/Berlin
BEGIN:STANDARD
DTSTART:20181028T020000
TZOFFSETFROM:+0200
TZOFFSETTO:+0100
TZNAME:CET
END:STANDARD
END:VTIMEZONE
END:VCALENDAR