BEGIN:VCALENDAR
VERSION:2.0
PRODID:-//wp-events-plugin.com//7.2.3.1//EN
TZID:Europe/Berlin
X-WR-TIMEZONE:Europe/Berlin
BEGIN:VEVENT
UID:55@busc.de
DTSTART;TZID=Europe/Berlin:20180113T200000
DTEND;TZID=Europe/Berlin:20180113T200000
DTSTAMP:20180102T160316Z
URL:https://busc.de/events/buscival/
SUMMARY:BUSCival
DESCRIPTION:Das Jahr 2017 stand unter dem Stern des 25-jährigen Vereinsjub
 iläums der Bonn University Shakespeare Company. Die studentische Theaterg
 ruppe möchte dies gebührend mit euch abschließen und beendet mit einem 
 Buscival das Jubiläumsjahr! Buscival\, was ist das eigentlich? Ein bunter
  Blumenstrauß von Auftritten: Schauspiel\, Gesang\, Lesung\, und was den 
 vielseitigen Mitglieder noch so einfällt. Lasst euch überraschen! Im loc
 keren Ambiente wird die Bühne der Brotfabrik von BUSCern gestürmt\, die 
 kleine Beiträge aller Art präsentieren.\n&nbsp\;\nEintritt frei!
LOCATION:#_LOCATIONNAME\, #_LOCATIONFULLLINE\, #_LOCATIONCOUNTRY
GEO:50.740923789593396;7.12353601791358
X-APPLE-STRUCTURED-LOCATION;VALUE=URI;X-ADDRESS=#_LOCATIONFULLLINE\, #_LOCA
 TIONCOUNTRY;X-APPLE-RADIUS=100;X-TITLE=#_LOCATIONNAME:geo:50.7409237895933
 96,7.12353601791358
END:VEVENT
BEGIN:VTIMEZONE
TZID:Europe/Berlin
X-LIC-LOCATION:Europe/Berlin
BEGIN:STANDARD
DTSTART:20171029T020000
TZOFFSETFROM:+0200
TZOFFSETTO:+0100
TZNAME:CET
END:STANDARD
END:VTIMEZONE
END:VCALENDAR